BEGIN:VCALENDAR
VERSION:2.0
PRODID:-//PYVOBJECT//NONSGML Version 1//EN
BEGIN:VEVENT
UID:19756:1517
DTSTART:20130718T173000
DTEND:20130718T213000
DESCRIPTION:
DTSTAMP:20260424T094455Z
SUMMARY:1.Sommer-Kochakademie 
END:VEVENT
END:VCALENDAR
