BEGIN:VCALENDAR
VERSION:2.0
PRODID:-//PYVOBJECT//NONSGML Version 1//EN
BEGIN:VEVENT
UID:19756:1518
DTSTART:20130719T160000
DTEND:20130719T200000
DESCRIPTION:
DTSTAMP:20260424T232230Z
SUMMARY:1.Sommer-Kochakademie 
END:VEVENT
END:VCALENDAR
